Package: derfinderPlot Version: 1.41.0 Command: /home/biocbuild/bbs-3.21-bioc/R/bin/R CMD INSTALL derfinderPlot StartedAt: 2025-02-12 15:57:39 -0500 (Wed, 12 Feb 2025) EndedAt: 2025-02-12 15:58:30 -0500 (Wed, 12 Feb 2025) EllapsedTime: 51.8 seconds RetCode: 0 Status: OK