Package: derfinderPlot Version: 1.41.0 Command: rm -rf derfinderPlot.buildbin-libdir && mkdir derfinderPlot.buildbin-libdir && E:\biocbuild\bbs-3.21-bioc\R\bin\R.exe CMD INSTALL --build --library=derfinderPlot.buildbin-libdir derfinderPlot_1.41.0.tar.gz StartedAt: 2025-02-10 07:37:12 -0500 (Mon, 10 Feb 2025) EndedAt: 2025-02-10 07:38:12 -0500 (Mon, 10 Feb 2025) EllapsedTime: 59.7 seconds RetCode: 0 Status: OK PackageFile: derfinderPlot_1.41.0.zip PackageFileSize: 953.7 KiB