Package: derfinderPlot Version: 1.41.0 Command: chmod a+r derfinderPlot -R && E:\biocbuild\bbs-3.21-bioc\R\bin\R.exe CMD build --keep-empty-dirs --no-resave-data derfinderPlot StartedAt: 2025-02-09 18:19:21 -0500 (Sun, 09 Feb 2025) EndedAt: 2025-02-09 18:23:54 -0500 (Sun, 09 Feb 2025) EllapsedTime: 273.1 seconds RetCode: 0 Status: OK PackageFile: derfinderPlot_1.41.0.tar.gz PackageFileSize: 911.9 KiB