Package: destiny Version: 3.21.0 Command: rm -rf destiny.buildbin-libdir && mkdir destiny.buildbin-libdir && /Users/biocbuild/BBS/utils/build-universal.sh destiny_3.21.0.tar.gz /Library/Frameworks/R.framework/Resources/bin/R destiny.buildbin-libdir StartedAt: 2025-02-03 22:48:00 -0500 (Mon, 03 Feb 2025) EndedAt: 2025-02-03 22:48:19 -0500 (Mon, 03 Feb 2025) EllapsedTime: 19.4 seconds RetCode: 0 Status: OK PackageFile: destiny_3.21.0.tgz PackageFileSize: 1.854 MiB