Package: destiny Version: 3.21.0 Command: /Library/Frameworks/R.framework/Resources/bin/R CMD build --keep-empty-dirs --no-resave-data destiny StartedAt: 2025-02-03 16:44:21 -0500 (Mon, 03 Feb 2025) EndedAt: 2025-02-03 16:47:12 -0500 (Mon, 03 Feb 2025) EllapsedTime: 170.8 seconds RetCode: 0 Status: OK PackageFile: destiny_3.21.0.tar.gz PackageFileSize: 1019 KiB