Package: destiny Version: 3.21.0 Command: /Library/Frameworks/R.framework/Resources/bin/R CMD INSTALL destiny StartedAt: 2025-02-03 15:57:04 -0500 (Mon, 03 Feb 2025) EndedAt: 2025-02-03 15:57:21 -0500 (Mon, 03 Feb 2025) EllapsedTime: 17.2 seconds RetCode: 0 Status: OK