Package: destiny Version: 3.21.0 Command: /home/biocbuild/R/R/bin/R CMD check --install=check:destiny.install-out.txt --library=/home/biocbuild/R/R/site-library --no-vignettes --timings destiny_3.21.0.tar.gz StartedAt: 2025-01-28 09:56:21 -0000 (Tue, 28 Jan 2025) EndedAt: 2025-01-28 10:01:44 -0000 (Tue, 28 Jan 2025) EllapsedTime: 323.3 seconds RetCode: 0 Status: WARNINGS CheckDir: destiny.Rcheck Warnings: 1