Package: destiny Version: 3.21.0 Command: rm -rf destiny.buildbin-libdir && mkdir destiny.buildbin-libdir && /Users/biocbuild/BBS/utils/build-universal.sh destiny_3.21.0.tar.gz /Library/Frameworks/R.framework/Resources/bin/R destiny.buildbin-libdir StartedAt: 2025-02-10 00:50:29 -0500 (Mon, 10 Feb 2025) EndedAt: 2025-02-10 00:51:37 -0500 (Mon, 10 Feb 2025) EllapsedTime: 68.2 seconds RetCode: 0 Status: OK PackageFile: destiny_3.21.0.tgz PackageFileSize: 1.86 MiB