Package: destiny Version: 3.21.0 Command: /Library/Frameworks/R.framework/Resources/bin/R CMD build --keep-empty-dirs --no-resave-data destiny StartedAt: 2025-02-09 16:32:38 -0500 (Sun, 09 Feb 2025) EndedAt: 2025-02-09 16:40:53 -0500 (Sun, 09 Feb 2025) EllapsedTime: 495.6 seconds RetCode: 0 Status: OK PackageFile: destiny_3.21.0.tar.gz PackageFileSize: 1020 KiB