Package: destiny Version: 3.21.0 Command: /Library/Frameworks/R.framework/Resources/bin/R CMD INSTALL destiny StartedAt: 2025-02-03 15:39:41 -0500 (Mon, 03 Feb 2025) EndedAt: 2025-02-03 15:40:42 -0500 (Mon, 03 Feb 2025) EllapsedTime: 60.4 seconds RetCode: 0 Status: OK