Package: destiny Version: 3.21.0 Command: /home/biocbuild/bbs-3.21-bioc/R/bin/R CMD build --keep-empty-dirs --no-resave-data destiny StartedAt: 2025-02-03 17:08:19 -0500 (Mon, 03 Feb 2025) EndedAt: 2025-02-03 17:14:28 -0500 (Mon, 03 Feb 2025) EllapsedTime: 369.4 seconds RetCode: 0 Status: OK PackageFile: destiny_3.21.0.tar.gz PackageFileSize: 870.8 KiB