Package: destiny Version: 3.21.0 Command: rm -rf destiny.buildbin-libdir && mkdir destiny.buildbin-libdir && E:\biocbuild\bbs-3.21-bioc\R\bin\R.exe CMD INSTALL --build --library=destiny.buildbin-libdir destiny_3.21.0.tar.gz StartedAt: 2025-02-04 07:51:00 -0500 (Tue, 04 Feb 2025) EndedAt: 2025-02-04 07:52:43 -0500 (Tue, 04 Feb 2025) EllapsedTime: 103.3 seconds RetCode: 0 Status: OK PackageFile: destiny_3.21.0.zip PackageFileSize: 1.757 MiB