Package: destiny Version: 3.21.0 Command: chmod a+r destiny -R && E:\biocbuild\bbs-3.21-bioc\R\bin\R.exe CMD build --keep-empty-dirs --no-resave-data destiny StartedAt: 2025-02-03 18:32:18 -0500 (Mon, 03 Feb 2025) EndedAt: 2025-02-03 18:41:28 -0500 (Mon, 03 Feb 2025) EllapsedTime: 549.5 seconds RetCode: 0 Status: OK PackageFile: destiny_3.21.0.tar.gz PackageFileSize: 602.5 KiB