Package: destiny Version: 3.21.0 Command: E:\biocbuild\bbs-3.21-bioc\R\bin\R.exe CMD check --no-multiarch --install=check:destiny.install-out.txt --library=E:\biocbuild\bbs-3.21-bioc\R\library --no-vignettes --timings destiny_3.21.0.tar.gz StartedAt: 2025-02-10 00:27:19 -0500 (Mon, 10 Feb 2025) EndedAt: 2025-02-10 00:32:28 -0500 (Mon, 10 Feb 2025) EllapsedTime: 308.3 seconds RetCode: 0 Status: OK CheckDir: destiny.Rcheck Warnings: 0