Package: destiny Version: 3.21.0 Command: E:\biocbuild\bbs-3.21-bioc\R\bin\R.exe CMD INSTALL destiny StartedAt: 2025-02-09 16:33:48 -0500 (Sun, 09 Feb 2025) EndedAt: 2025-02-09 16:35:27 -0500 (Sun, 09 Feb 2025) EllapsedTime: 99.6 seconds RetCode: 0 Status: OK