Package: diffGeneAnalysis Version: 1.89.0 Command: rm -rf diffGeneAnalysis.buildbin-libdir && mkdir diffGeneAnalysis.buildbin-libdir && /Users/biocbuild/BBS/utils/build-universal.sh diffGeneAnalysis_1.89.0.tar.gz /Library/Frameworks/R.framework/Resources/bin/R diffGeneAnalysis.buildbin-libdir StartedAt: 2025-02-09 22:12:25 -0500 (Sun, 09 Feb 2025) EndedAt: 2025-02-09 22:12:27 -0500 (Sun, 09 Feb 2025) EllapsedTime: 2.0 seconds RetCode: 0 Status: OK PackageFile: diffGeneAnalysis_1.89.0.tgz PackageFileSize: 250.6 KiB