Package: diffGeneAnalysis Version: 1.89.0 Command: /home/biocbuild/R/R/bin/R CMD build --keep-empty-dirs --no-resave-data diffGeneAnalysis StartedAt: 2025-01-28 22:28:14 -0000 (Tue, 28 Jan 2025) EndedAt: 2025-01-28 22:28:19 -0000 (Tue, 28 Jan 2025) EllapsedTime: 5.0 seconds RetCode: 0 Status: OK PackageFile: diffGeneAnalysis_1.89.0.tar.gz PackageFileSize: 208.9 KiB