Package: diffGeneAnalysis Version: 1.89.0 Command: /home/biocbuild/R/R/bin/R CMD INSTALL diffGeneAnalysis StartedAt: 2025-01-29 19:32:41 -0000 (Wed, 29 Jan 2025) EndedAt: 2025-01-29 19:32:54 -0000 (Wed, 29 Jan 2025) EllapsedTime: 12.7 seconds RetCode: 0 Status: OK