Package: diffGeneAnalysis Version: 1.89.0 Command: rm -rf diffGeneAnalysis.buildbin-libdir && mkdir diffGeneAnalysis.buildbin-libdir && /Users/biocbuild/BBS/utils/build-universal.sh diffGeneAnalysis_1.89.0.tar.gz /Library/Frameworks/R.framework/Resources/bin/R diffGeneAnalysis.buildbin-libdir StartedAt: 2025-02-10 00:50:43 -0500 (Mon, 10 Feb 2025) EndedAt: 2025-02-10 00:50:49 -0500 (Mon, 10 Feb 2025) EllapsedTime: 5.8 seconds RetCode: 0 Status: OK PackageFile: diffGeneAnalysis_1.89.0.tgz PackageFileSize: 249.9 KiB