Package: diffGeneAnalysis Version: 1.89.0 Command: /Library/Frameworks/R.framework/Resources/bin/R CMD INSTALL diffGeneAnalysis StartedAt: 2025-02-09 15:05:34 -0500 (Sun, 09 Feb 2025) EndedAt: 2025-02-09 15:05:56 -0500 (Sun, 09 Feb 2025) EllapsedTime: 22.6 seconds RetCode: 0 Status: OK