Package: diffGeneAnalysis Version: 1.89.0 Command: /home/biocbuild/bbs-3.21-bioc/R/bin/R CMD check --install=check:diffGeneAnalysis.install-out.txt --library=/home/biocbuild/bbs-3.21-bioc/R/site-library --timings diffGeneAnalysis_1.89.0.tar.gz StartedAt: 2025-02-09 21:46:44 -0500 (Sun, 09 Feb 2025) EndedAt: 2025-02-09 21:47:02 -0500 (Sun, 09 Feb 2025) EllapsedTime: 18.0 seconds RetCode: 0 Status: OK CheckDir: diffGeneAnalysis.Rcheck Warnings: 0