Package: diffGeneAnalysis Version: 1.89.0 Command: chmod a+r diffGeneAnalysis -R && E:\biocbuild\bbs-3.21-bioc\R\bin\R.exe CMD build --keep-empty-dirs --no-resave-data diffGeneAnalysis StartedAt: 2025-02-03 18:34:19 -0500 (Mon, 03 Feb 2025) EndedAt: 2025-02-03 18:34:45 -0500 (Mon, 03 Feb 2025) EllapsedTime: 26.6 seconds RetCode: 0 Status: OK PackageFile: diffGeneAnalysis_1.89.0.tar.gz PackageFileSize: 156.5 KiB