Package: diffGeneAnalysis Version: 1.89.0 Command: E:\biocbuild\bbs-3.21-bioc\R\bin\R.exe CMD check --no-multiarch --install=check:diffGeneAnalysis.install-out.txt --library=E:\biocbuild\bbs-3.21-bioc\R\library --no-vignettes --timings diffGeneAnalysis_1.89.0.tar.gz StartedAt: 2025-02-04 00:59:15 -0500 (Tue, 04 Feb 2025) EndedAt: 2025-02-04 00:59:44 -0500 (Tue, 04 Feb 2025) EllapsedTime: 28.6 seconds RetCode: 0 Status: OK CheckDir: diffGeneAnalysis.Rcheck Warnings: 0