Package: diffGeneAnalysis Version: 1.89.0 Command: E:\biocbuild\bbs-3.21-bioc\R\bin\R.exe CMD INSTALL diffGeneAnalysis StartedAt: 2025-02-09 15:22:08 -0500 (Sun, 09 Feb 2025) EndedAt: 2025-02-09 15:22:47 -0500 (Sun, 09 Feb 2025) EllapsedTime: 39.5 seconds RetCode: 0 Status: OK