Package: diffHic Version: 1.39.1 Maintainer: Aaron Lun , Gordon Smyth , Hannah Coughlin MaintainerEmail: coughlin.h at wehi.edu.au git_url: https://git.bioconductor.org/packages/diffHic git_branch: devel git_last_commit: de5cfac git_last_commit_date: 2024-12-16 13:04:00 -0500 (Mon, 16 Dec 2024)