Package: diffHic Version: 1.39.1 Command: /Library/Frameworks/R.framework/Resources/bin/R CMD INSTALL diffHic StartedAt: 2025-02-09 15:10:32 -0500 (Sun, 09 Feb 2025) EndedAt: 2025-02-09 15:11:04 -0500 (Sun, 09 Feb 2025) EllapsedTime: 31.4 seconds RetCode: 0 Status: OK