Package: diffHic Version: 1.39.1 Command: /home/biocbuild/R/R/bin/R CMD check --install=check:diffHic.install-out.txt --library=/home/biocbuild/R/R/site-library --no-vignettes --timings diffHic_1.39.1.tar.gz StartedAt: 2025-01-28 09:59:22 -0000 (Tue, 28 Jan 2025) EndedAt: 2025-01-28 10:06:33 -0000 (Tue, 28 Jan 2025) EllapsedTime: 430.4 seconds RetCode: 0 Status: OK CheckDir: diffHic.Rcheck Warnings: 0