Package: diffHic Version: 1.39.1 Command: /home/biocbuild/R/R/bin/R CMD INSTALL diffHic StartedAt: 2025-01-29 19:54:45 -0000 (Wed, 29 Jan 2025) EndedAt: 2025-01-29 19:57:08 -0000 (Wed, 29 Jan 2025) EllapsedTime: 142.4 seconds RetCode: 0 Status: OK