Package: diffHic Version: 1.39.1 Command: rm -rf diffHic.buildbin-libdir && mkdir diffHic.buildbin-libdir && /Users/biocbuild/BBS/utils/build-universal.sh diffHic_1.39.1.tar.gz /Library/Frameworks/R.framework/Resources/bin/R diffHic.buildbin-libdir StartedAt: 2025-02-10 00:50:43 -0500 (Mon, 10 Feb 2025) EndedAt: 2025-02-10 00:52:44 -0500 (Mon, 10 Feb 2025) EllapsedTime: 121.5 seconds RetCode: 0 Status: OK PackageFile: diffHic_1.39.1.tgz PackageFileSize: 2.553 MiB