Package: diffHic Version: 1.39.1 Command: /Library/Frameworks/R.framework/Resources/bin/R CMD build --keep-empty-dirs --no-resave-data diffHic StartedAt: 2025-02-09 16:34:09 -0500 (Sun, 09 Feb 2025) EndedAt: 2025-02-09 16:35:58 -0500 (Sun, 09 Feb 2025) EllapsedTime: 109.7 seconds RetCode: 0 Status: OK PackageFile: diffHic_1.39.1.tar.gz PackageFileSize: 1.517 MiB