Package: diffHic Version: 1.39.1 Command: /Library/Frameworks/R.framework/Resources/bin/R CMD INSTALL diffHic StartedAt: 2025-02-09 15:19:30 -0500 (Sun, 09 Feb 2025) EndedAt: 2025-02-09 15:21:26 -0500 (Sun, 09 Feb 2025) EllapsedTime: 116.1 seconds RetCode: 0 Status: OK