Package: diffUTR Version: 1.15.0 Command: rm -rf diffUTR.buildbin-libdir && mkdir diffUTR.buildbin-libdir && E:\biocbuild\bbs-3.21-bioc\R\bin\R.exe CMD INSTALL --build --library=diffUTR.buildbin-libdir diffUTR_1.15.0.tar.gz StartedAt: 2025-02-13 07:48:47 -0500 (Thu, 13 Feb 2025) EndedAt: 2025-02-13 07:49:46 -0500 (Thu, 13 Feb 2025) EllapsedTime: 59.1 seconds RetCode: 0 Status: OK PackageFile: diffUTR_1.15.0.zip PackageFileSize: 1.152 MiB