Package: diffUTR Version: 1.15.0 Command: chmod a+r diffUTR -R && E:\biocbuild\bbs-3.21-bioc\R\bin\R.exe CMD build --keep-empty-dirs --no-resave-data diffUTR StartedAt: 2025-02-09 18:22:38 -0500 (Sun, 09 Feb 2025) EndedAt: 2025-02-09 18:24:10 -0500 (Sun, 09 Feb 2025) EllapsedTime: 91.8 seconds RetCode: 0 Status: OK PackageFile: diffUTR_1.15.0.tar.gz PackageFileSize: 1.102 MiB