Package: diffcoexp Version: 1.27.0 Command: rm -rf diffcoexp.buildbin-libdir && mkdir diffcoexp.buildbin-libdir && /Users/biocbuild/BBS/utils/build-universal.sh diffcoexp_1.27.0.tar.gz /Library/Frameworks/R.framework/Resources/bin/R diffcoexp.buildbin-libdir StartedAt: 2025-02-09 22:12:20 -0500 (Sun, 09 Feb 2025) EndedAt: 2025-02-09 22:12:33 -0500 (Sun, 09 Feb 2025) EllapsedTime: 13.3 seconds RetCode: 0 Status: OK PackageFile: diffcoexp_1.27.0.tgz PackageFileSize: 319.3 KiB