Package: diffcoexp Version: 1.27.0 Command: /Library/Frameworks/R.framework/Resources/bin/R CMD INSTALL diffcoexp StartedAt: 2025-02-09 15:22:11 -0500 (Sun, 09 Feb 2025) EndedAt: 2025-02-09 15:22:24 -0500 (Sun, 09 Feb 2025) EllapsedTime: 12.0 seconds RetCode: 0 Status: OK