Package: diffcoexp Version: 1.27.0 Command: /home/biocbuild/R/R/bin/R CMD check --install=check:diffcoexp.install-out.txt --library=/home/biocbuild/R/R/site-library --no-vignettes --timings diffcoexp_1.27.0.tar.gz StartedAt: 2025-01-28 09:57:38 -0000 (Tue, 28 Jan 2025) EndedAt: 2025-01-28 10:02:10 -0000 (Tue, 28 Jan 2025) EllapsedTime: 272.2 seconds RetCode: 0 Status: OK CheckDir: diffcoexp.Rcheck Warnings: 0