Package: diffcoexp Version: 1.27.0 Command: /home/biocbuild/bbs-3.21-bioc/R/bin/R CMD check --install=check:diffcoexp.install-out.txt --library=/home/biocbuild/bbs-3.21-bioc/R/site-library --timings diffcoexp_1.27.0.tar.gz StartedAt: 2025-02-09 21:46:30 -0500 (Sun, 09 Feb 2025) EndedAt: 2025-02-09 21:50:11 -0500 (Sun, 09 Feb 2025) EllapsedTime: 220.2 seconds RetCode: 0 Status: OK CheckDir: diffcoexp.Rcheck Warnings: 0