Package: diffcoexp Version: 1.27.0 Command: /home/biocbuild/bbs-3.21-bioc/R/bin/R CMD INSTALL diffcoexp StartedAt: 2025-02-09 15:43:14 -0500 (Sun, 09 Feb 2025) EndedAt: 2025-02-09 15:43:43 -0500 (Sun, 09 Feb 2025) EllapsedTime: 29.6 seconds RetCode: 0 Status: OK