Package: diffcoexp Version: 1.27.0 Command: rm -rf diffcoexp.buildbin-libdir && mkdir diffcoexp.buildbin-libdir && E:\biocbuild\bbs-3.21-bioc\R\bin\R.exe CMD INSTALL --build --library=diffcoexp.buildbin-libdir diffcoexp_1.27.0.tar.gz StartedAt: 2025-02-04 07:51:20 -0500 (Tue, 04 Feb 2025) EndedAt: 2025-02-04 07:51:56 -0500 (Tue, 04 Feb 2025) EllapsedTime: 35.9 seconds RetCode: 0 Status: OK PackageFile: diffcoexp_1.27.0.zip PackageFileSize: 158.2 KiB