Package: diffcoexp Version: 1.27.0 Command: E:\biocbuild\bbs-3.21-bioc\R\bin\R.exe CMD check --no-multiarch --install=check:diffcoexp.install-out.txt --library=E:\biocbuild\bbs-3.21-bioc\R\library --no-vignettes --timings diffcoexp_1.27.0.tar.gz StartedAt: 2025-02-04 00:57:15 -0500 (Tue, 04 Feb 2025) EndedAt: 2025-02-04 01:01:12 -0500 (Tue, 04 Feb 2025) EllapsedTime: 236.6 seconds RetCode: 0 Status: OK CheckDir: diffcoexp.Rcheck Warnings: 0