Package: diffcyt Version: 1.27.0 Command: /Library/Frameworks/R.framework/Resources/bin/R CMD build --keep-empty-dirs --no-resave-data diffcyt StartedAt: 2025-02-05 16:09:34 -0500 (Wed, 05 Feb 2025) EndedAt: 2025-02-05 16:10:17 -0500 (Wed, 05 Feb 2025) EllapsedTime: 42.4 seconds RetCode: 0 Status: OK PackageFile: diffcyt_1.27.0.tar.gz PackageFileSize: 855.7 KiB