Package: diffcyt Version: 1.27.0 Command: /Library/Frameworks/R.framework/Resources/bin/R CMD INSTALL diffcyt StartedAt: 2025-02-05 15:28:03 -0500 (Wed, 05 Feb 2025) EndedAt: 2025-02-05 15:28:15 -0500 (Wed, 05 Feb 2025) EllapsedTime: 12.4 seconds RetCode: 0 Status: OK