Package: diffcyt Version: 1.27.0 Command: /home/biocbuild/R/R/bin/R CMD build --keep-empty-dirs --no-resave-data diffcyt StartedAt: 2025-01-28 22:28:12 -0000 (Tue, 28 Jan 2025) EndedAt: 2025-01-28 22:30:44 -0000 (Tue, 28 Jan 2025) EllapsedTime: 152.1 seconds RetCode: 0 Status: OK PackageFile: diffcyt_1.27.0.tar.gz PackageFileSize: 689.1 KiB