Package: diffcyt Version: 1.27.0 Command: /home/biocbuild/R/R/bin/R CMD INSTALL diffcyt StartedAt: 2025-01-29 20:33:34 -0000 (Wed, 29 Jan 2025) EndedAt: 2025-01-29 20:34:17 -0000 (Wed, 29 Jan 2025) EllapsedTime: 42.2 seconds RetCode: 0 Status: OK