Package: diffcyt Version: 1.27.0 Command: /home/biocbuild/bbs-3.21-bioc/R/bin/R CMD build --keep-empty-dirs --no-resave-data diffcyt StartedAt: 2025-02-05 17:00:47 -0500 (Wed, 05 Feb 2025) EndedAt: 2025-02-05 17:02:29 -0500 (Wed, 05 Feb 2025) EllapsedTime: 102.1 seconds RetCode: 0 Status: OK PackageFile: diffcyt_1.27.0.tar.gz PackageFileSize: 895.3 KiB