Package: diffcyt Version: 1.27.0 Command: /home/biocbuild/bbs-3.21-bioc/R/bin/R CMD check --install=check:diffcyt.install-out.txt --library=/home/biocbuild/bbs-3.21-bioc/R/site-library --timings diffcyt_1.27.0.tar.gz StartedAt: 2025-02-04 21:44:56 -0500 (Tue, 04 Feb 2025) EndedAt: 2025-02-04 21:50:14 -0500 (Tue, 04 Feb 2025) EllapsedTime: 318.4 seconds RetCode: 0 Status: OK CheckDir: diffcyt.Rcheck Warnings: 0