Package: diffcyt Version: 1.27.0 Command: /home/biocbuild/bbs-3.21-bioc/R/bin/R CMD INSTALL diffcyt StartedAt: 2025-02-05 15:21:31 -0500 (Wed, 05 Feb 2025) EndedAt: 2025-02-05 15:22:01 -0500 (Wed, 05 Feb 2025) EllapsedTime: 29.8 seconds RetCode: 0 Status: OK