Package: diffcyt Version: 1.27.0 Command: rm -rf diffcyt.buildbin-libdir && mkdir diffcyt.buildbin-libdir && E:\biocbuild\bbs-3.21-bioc\R\bin\R.exe CMD INSTALL --build --library=diffcyt.buildbin-libdir diffcyt_1.27.0.tar.gz StartedAt: 2025-02-06 07:55:07 -0500 (Thu, 06 Feb 2025) EndedAt: 2025-02-06 07:55:49 -0500 (Thu, 06 Feb 2025) EllapsedTime: 42.6 seconds RetCode: 0 Status: OK PackageFile: diffcyt_1.27.0.zip PackageFileSize: 685.3 KiB