Package: diffcyt Version: 1.27.0 Command: chmod a+r diffcyt -R && E:\biocbuild\bbs-3.21-bioc\R\bin\R.exe CMD build --keep-empty-dirs --no-resave-data diffcyt StartedAt: 2025-02-05 18:26:37 -0500 (Wed, 05 Feb 2025) EndedAt: 2025-02-05 18:28:51 -0500 (Wed, 05 Feb 2025) EllapsedTime: 134.4 seconds RetCode: 0 Status: OK PackageFile: diffcyt_1.27.0.tar.gz PackageFileSize: 671.9 KiB