Package: diffcyt Version: 1.27.0 Command: E:\biocbuild\bbs-3.21-bioc\R\bin\R.exe CMD check --no-multiarch --install=check:diffcyt.install-out.txt --library=E:\biocbuild\bbs-3.21-bioc\R\library --no-vignettes --timings diffcyt_1.27.0.tar.gz StartedAt: 2025-02-06 01:01:19 -0500 (Thu, 06 Feb 2025) EndedAt: 2025-02-06 01:06:10 -0500 (Thu, 06 Feb 2025) EllapsedTime: 291.0 seconds RetCode: 0 Status: OK CheckDir: diffcyt.Rcheck Warnings: 0